BEGIN:VCALENDAR
VERSION:2.0
PRODID:icalendar-ruby
CALSCALE:GREGORIAN
METHOD:PUBLISH
BEGIN:VEVENT
DTSTAMP:20260423T194153Z
UID:54-600596@friendshipcreekside.com
DTSTART:20260927T230000Z
DTEND:20260928T003000Z
CLASS:PUBLIC
CREATED:20260423T134214
DESCRIPTION:Join EPIC Sports for their Run Club at the Belterra Rec Center!
  This is a  simple 1-mile course\, perfect for runners\, joggers\, walker
 s\, strollers\, and everyone in between. All levels welcome\, do it at you
 r pace!\nDrinks and snacks to follow! \n 
LAST-MODIFIED:20260423T134214
LOCATION:Belterra Rec Center - 801 Belterra Dr\, Austin\, TX 78737
SUMMARY:EPIC Sports Run Club
URL;VALUE=URI:https://www.friendshipcreekside.com/events/epic-sports-run-cl
 ub/2026-09-27
ATTACH;FILENAME=Screenshot-2026-02-18-140350.png;FMTTYPE=image/png:https://
 dq5pwpg1q8ru0.cloudfront.net/2026/03/04/20/03/43/87540fe2-11ad-4418-be86-d
 8d5201c6798/Screenshot-2026-02-18-140350.png
END:VEVENT
END:VCALENDAR
